BEGIN:VCALENDAR
VERSION:2.0
PRODID:-//Germania Würzburg - ECPv4.9.12//NONSGML v1.0//EN
CALSCALE:GREGORIAN
METHOD:PUBLISH
X-WR-CALNAME:Germania Würzburg
X-ORIGINAL-URL:https://www.germania-wuerzburg.de
X-WR-CALDESC:Veranstaltungen im Germania Würzburg
BEGIN:VTIMEZONE
TZID:Europe/Berlin
BEGIN:DAYLIGHT
TZOFFSETFROM:+0100
TZOFFSETTO:+0200
TZNAME:CEST
DTSTART:20210328T010000
END:DAYLIGHT
BEGIN:STANDARD
TZOFFSETFROM:+0200
TZOFFSETTO:+0100
TZNAME:CET
DTSTART:20211031T010000
END:STANDARD
END:VTIMEZONE
BEGIN:VEVENT
DTSTART;VALUE=DATE:20210106
DTEND;VALUE=DATE:20210107
DTSTAMP:20260420T083449
CREATED:20201009T182945Z
LAST-MODIFIED:20201009T182945Z
UID:813-1609891200-1609977599@www.germania-wuerzburg.de
SUMMARY:Heilige Drei Könige
DESCRIPTION:
URL:https://www.germania-wuerzburg.de/event/heilige-drei-koenige/
END:VEVENT
END:VCALENDAR